BEGIN:VCALENDAR
PRODID:-//climbIT//Tourenangebot//DE
VERSION:2.0
METHOD:PUBLISH
BEGIN:VEVENT
UID:tour-75eee25c-4c21-423d-9532-5630c044d7c3@touren.sac-manegg.ch
DTSTAMP:20260421T191140
SEQUENCE:0
CLASS:PUBLIC
TRANSP:OPAQUE
DTSTART;VALUE=DATE:20250126
DTEND;VALUE=DATE:20250127
SUMMARY:Sektion Manegg: Brisen
DESCRIPTION:Nach deiner Anmeldung und bei jeder Statusänderung wird ein Kalendereintrag per E-Mail verschickt.\n\nAktuelle Informationen\nTourenlink: https://touren.sac-manegg.ch/tours/view/75eee25c-4c21-423d-9532-5630c044d7c3\n\n\nDein Tourenangebot Team
END:VEVENT
END:VCALENDAR